BEGIN:VCALENDAR
VERSION:2.0
PRODID:-//Squarespace Inc/Squarespace 6//v6//EN
BEGIN:VEVENT
UID:5a6143399140b7807f4eda5e@squarespace.com
DTSTAMP:20180302T042741Z
DTSTART:20180316T080000Z
DTEND:20180316T103000Z
SUMMARY:The Vampires
GEO:-34.412205;150.879233
LOCATION:Wollongong Conservatorium of Music\, Murphys Avenue\, Gwynneville\
 , NSW\, 2500\, Australia
END:VEVENT
END:VCALENDAR
